BEGIN:VCALENDAR
VERSION:2.0
PRODID:-//FederBio Servizi - ECPv6.15.17.1//NONSGML v1.0//EN
CALSCALE:GREGORIAN
METHOD:PUBLISH
X-WR-CALNAME:FederBio Servizi
X-ORIGINAL-URL:https://federbioservizi.it
X-WR-CALDESC:Eventi per FederBio Servizi
REFRESH-INTERVAL;VALUE=DURATION:PT1H
X-Robots-Tag:noindex
X-PUBLISHED-TTL:PT1H
BEGIN:VTIMEZONE
TZID:Europe/Rome
BEGIN:DAYLIGHT
TZOFFSETFROM:+0100
TZOFFSETTO:+0200
TZNAME:CEST
DTSTART:20250330T010000
END:DAYLIGHT
BEGIN:STANDARD
TZOFFSETFROM:+0200
TZOFFSETTO:+0100
TZNAME:CET
DTSTART:20251026T010000
END:STANDARD
BEGIN:DAYLIGHT
TZOFFSETFROM:+0100
TZOFFSETTO:+0200
TZNAME:CEST
DTSTART:20260329T010000
END:DAYLIGHT
BEGIN:STANDARD
TZOFFSETFROM:+0200
TZOFFSETTO:+0100
TZNAME:CET
DTSTART:20261025T010000
END:STANDARD
BEGIN:DAYLIGHT
TZOFFSETFROM:+0100
TZOFFSETTO:+0200
TZNAME:CEST
DTSTART:20270328T010000
END:DAYLIGHT
BEGIN:STANDARD
TZOFFSETFROM:+0200
TZOFFSETTO:+0100
TZNAME:CET
DTSTART:20271031T010000
END:STANDARD
END:VTIMEZONE
BEGIN:VEVENT
DTSTART;TZID=Europe/Rome:20260226T143000
DTEND;TZID=Europe/Rome:20260226T160000
DTSTAMP:20260421T035335
CREATED:20260211T091646Z
LAST-MODIFIED:20260211T091825Z
UID:12236-1772116200-1772121600@federbioservizi.it
SUMMARY:Webinar AssoBio: Normativa nazionale settore biologico: stato dell’arte e nuovo decreto non conformità
DESCRIPTION:Il 26 marzo 2026\, dalle 14.30 alle 16.00\, si svolgerà il secondo webinar del ciclo formativo dedicato alla normativa agroalimentare. L’incontro approfondirà gli aspetti applicativi del D.lgs. 198/2021 sulle pratiche commerciali sleali\, con particolare attenzione ai contratti nelle filiere agricole e agroalimentari. Un’occasione utile per comprendere come prevenire criticità e gestire correttamente i rapporti contrattuali. Relatore Avv. Massimo Palumbo – MP Studio Legale\, consulente AssoBio ModalitàWebinar online gratuito riservato ai Soci AssoBio. Contattiinfo@assobio.it · 051 421 02 72 Programma completo e info AssoBio_Webinar_Palumbo_2026 locandina
URL:https://federbioservizi.it/evento/webinar-assobio-normativa-nazionale-settore-biologico-stato-dellarte-e-nuovo-decreto-non-conformita/
LOCATION:Webinar Online
END:VEVENT
END:VCALENDAR