BEGIN:VCALENDAR
VERSION:2.0
PRODID:-//FederBio Servizi - ECPv6.15.17.1//NONSGML v1.0//EN
CALSCALE:GREGORIAN
METHOD:PUBLISH
X-ORIGINAL-URL:https://federbioservizi.it
X-WR-CALDESC:Eventi per FederBio Servizi
REFRESH-INTERVAL;VALUE=DURATION:PT1H
X-Robots-Tag:noindex
X-PUBLISHED-TTL:PT1H
BEGIN:VTIMEZONE
TZID:Europe/Rome
BEGIN:DAYLIGHT
TZOFFSETFROM:+0100
TZOFFSETTO:+0200
TZNAME:CEST
DTSTART:20210328T010000
END:DAYLIGHT
BEGIN:STANDARD
TZOFFSETFROM:+0200
TZOFFSETTO:+0100
TZNAME:CET
DTSTART:20211031T010000
END:STANDARD
BEGIN:DAYLIGHT
TZOFFSETFROM:+0100
TZOFFSETTO:+0200
TZNAME:CEST
DTSTART:20220327T010000
END:DAYLIGHT
BEGIN:STANDARD
TZOFFSETFROM:+0200
TZOFFSETTO:+0100
TZNAME:CET
DTSTART:20221030T010000
END:STANDARD
BEGIN:DAYLIGHT
TZOFFSETFROM:+0100
TZOFFSETTO:+0200
TZNAME:CEST
DTSTART:20230326T010000
END:DAYLIGHT
BEGIN:STANDARD
TZOFFSETFROM:+0200
TZOFFSETTO:+0100
TZNAME:CET
DTSTART:20231029T010000
END:STANDARD
END:VTIMEZONE
BEGIN:VEVENT
DTSTART;TZID=Europe/Rome:20221215T173000
DTEND;TZID=Europe/Rome:20221215T190000
DTSTAMP:20260422T030938
CREATED:20221207T150524Z
LAST-MODIFIED:20221213T150916Z
UID:5314-1671125400-1671130800@federbioservizi.it
SUMMARY:Convegno_La coltivazione della barbabietola bio 100% italiana: opportunità e prospettive nell’ambito agroeconomico
DESCRIPTION:Convegno_La coltivazione della barbabietola bio 100% italiana: opportunità e prospettive nell’ambito agroeconomico\nIl bilancio della campagna 2022 e le prospettive per il 2023 al centro dell’incontro tra COPROB – Italia Zuccheri e FederBio Servizi\nGiovedì 15 dicembre 2022 alle ore 17.30 a Minerbio (BO)  \nIl convegno si terrà presso la Sala Giovanni Bersani – COPROB – Italia Zuccheri a Minerbio\, in via Mora 56. \nPer prenotarsi inviare un’email a bio@coprob.com \nL’incontro si concluderà con un buffet! \n-> Consulta il programma del webinar <-
URL:https://federbioservizi.it/evento/convegno_la-coltivazione-della-barbabietola-bio-100-italiana-opportunita-e-prospettive-nellambito-agroeconomico/
LOCATION:Sala Bersani – COPROB\, Via Mora 56\, Minerbio (BO)\, Italia
ATTACH;FMTTYPE=image/jpeg:https://federbioservizi.it/wp-content/uploads/2022/09/Bietole.jpg
ORGANIZER;CN="FederBio Servizi":MAILTO:info@federbioservizi.it
END:VEVENT
BEGIN:VEVENT
DTSTART;TZID=Europe/Rome:20221215T173000
DTEND;TZID=Europe/Rome:20221215T190000
DTSTAMP:20260422T030938
CREATED:20221207T150524Z
LAST-MODIFIED:20221207T150524Z
UID:11063-1671125400-1671130800@federbioservizi.it
SUMMARY:Convegno_La coltivazione della barbabietola bio 100% italiana: opportunità e prospettive nell’ambito agroeconomico
DESCRIPTION:Convegno_La coltivazione della barbabietola bio 100% italiana: opportunità e prospettive nell’ambito agroeconomico\nIl bilancio della campagna 2022 e le prospettive per il 2023 al centro dell’incontro tra COPROB – Italia Zuccheri e FederBio Servizi\nGiovedì 15 dicembre 2022 alle ore 17.30 a Minerbio (BO)  \nIl convegno si terrà presso la Sala Giovanni Bersani – COPROB – Italia Zuccheri a Minerbio\, in via Mora 56. \nPer prenotarsi inviare un’email a bio@coprob.com \nL’incontro si concluderà con un buffet! \n-> Consulta il programma del webinar <-
URL:https://federbioservizi.it/evento/convegno_la-coltivazione-della-barbabietola-bio-100-italiana-opportunita-e-prospettive-nellambito-agroeconomico-2/
LOCATION:Sala Bersani – COPROB\, Via Mora 56\, Minerbio (BO)\, Italia
ATTACH;FMTTYPE=image/jpeg:https://federbioservizi.it/wp-content/uploads/2022/09/Bietole.jpg
ORGANIZER;CN="FederBio Servizi":MAILTO:info@federbioservizi.it
END:VEVENT
END:VCALENDAR