BEGIN:VCALENDAR
VERSION:2.0
PRODID:-//FederBio Servizi - ECPv6.15.17.1//NONSGML v1.0//EN
CALSCALE:GREGORIAN
METHOD:PUBLISH
X-WR-CALNAME:FederBio Servizi
X-ORIGINAL-URL:https://federbioservizi.it
X-WR-CALDESC:Eventi per FederBio Servizi
REFRESH-INTERVAL;VALUE=DURATION:PT1H
X-Robots-Tag:noindex
X-PUBLISHED-TTL:PT1H
BEGIN:VTIMEZONE
TZID:Europe/Rome
BEGIN:DAYLIGHT
TZOFFSETFROM:+0100
TZOFFSETTO:+0200
TZNAME:CEST
DTSTART:20200329T010000
END:DAYLIGHT
BEGIN:STANDARD
TZOFFSETFROM:+0200
TZOFFSETTO:+0100
TZNAME:CET
DTSTART:20201025T010000
END:STANDARD
BEGIN:DAYLIGHT
TZOFFSETFROM:+0100
TZOFFSETTO:+0200
TZNAME:CEST
DTSTART:20210328T010000
END:DAYLIGHT
BEGIN:STANDARD
TZOFFSETFROM:+0200
TZOFFSETTO:+0100
TZNAME:CET
DTSTART:20211031T010000
END:STANDARD
BEGIN:DAYLIGHT
TZOFFSETFROM:+0100
TZOFFSETTO:+0200
TZNAME:CEST
DTSTART:20220327T010000
END:DAYLIGHT
BEGIN:STANDARD
TZOFFSETFROM:+0200
TZOFFSETTO:+0100
TZNAME:CET
DTSTART:20221030T010000
END:STANDARD
BEGIN:DAYLIGHT
TZOFFSETFROM:+0100
TZOFFSETTO:+0200
TZNAME:CEST
DTSTART:20230326T010000
END:DAYLIGHT
BEGIN:STANDARD
TZOFFSETFROM:+0200
TZOFFSETTO:+0100
TZNAME:CET
DTSTART:20231029T010000
END:STANDARD
BEGIN:DAYLIGHT
TZOFFSETFROM:+0100
TZOFFSETTO:+0200
TZNAME:CEST
DTSTART:20240331T010000
END:DAYLIGHT
BEGIN:STANDARD
TZOFFSETFROM:+0200
TZOFFSETTO:+0100
TZNAME:CET
DTSTART:20241027T010000
END:STANDARD
END:VTIMEZONE
BEGIN:VEVENT
DTSTART;TZID=Europe/Rome:20230317T094500
DTEND;TZID=Europe/Rome:20230317T123000
DTSTAMP:20260419T154743
CREATED:20230309T111039Z
LAST-MODIFIED:20230309T111039Z
UID:11069-1679046300-1679056200@federbioservizi.it
SUMMARY:Convegno_Il valore delle bioplastiche per un’agricoltura circolare
DESCRIPTION:Il valore delle bioplastiche per un’agricoltura circolare\n\n\n\nProspettive di applicazione e casi di successo\nRoma\, 17 marzo 2023\, ore 9\,45\nSede Regioni Emilia Romagna e Umbria Via Barberini\, 11 \nL’agricoltura rappresenta uno dei campi di innovazione per l’applicazione delle bioplastiche. I potenziali vantaggi per il settore sono molteplici\, sia in termini ambientali che economici. Assobioplastiche\, in collaborazione con Umbria Spring – Cluster Umbro Chimica Verde\, organizza un incontro per illustrare il contributo che queste nuove soluzioni possono offrire per attivare percorsi di bioeconomia circolare in agricoltura. \nPosti limitati. Per partecipare: press@assobioplastiche.org \n\n\n\n-> Consulta il programma <-
URL:https://federbioservizi.it/evento/il-valore-delle-bioplastiche-per-unagricoltura-circolare-2/
LOCATION:Sede Regione Emilia Romagna e Umbria\, Via Barberini\, 11\, Roma\, Italia
ATTACH;FMTTYPE=image/jpeg:https://federbioservizi.it/wp-content/uploads/2022/07/Pomodoro-pacciamato-da-industria-bio-2-scaled.jpeg
ORGANIZER;CN="FederBio Servizi":MAILTO:info@federbioservizi.it
END:VEVENT
BEGIN:VEVENT
DTSTART;TZID=Europe/Rome:20230317T094500
DTEND;TZID=Europe/Rome:20230317T123000
DTSTAMP:20260419T154743
CREATED:20230309T111039Z
LAST-MODIFIED:20230309T111039Z
UID:5609-1679046300-1679056200@federbioservizi.it
SUMMARY:Convegno_Il valore delle bioplastiche per un’agricoltura circolare
DESCRIPTION:Il valore delle bioplastiche per un’agricoltura circolare\n\n\n\nProspettive di applicazione e casi di successo\nRoma\, 17 marzo 2023\, ore 9\,45\nSede Regioni Emilia Romagna e Umbria Via Barberini\, 11 \nL’agricoltura rappresenta uno dei campi di innovazione per l’applicazione delle bioplastiche. I potenziali vantaggi per il settore sono molteplici\, sia in termini ambientali che economici. Assobioplastiche\, in collaborazione con Umbria Spring – Cluster Umbro Chimica Verde\, organizza un incontro per illustrare il contributo che queste nuove soluzioni possono offrire per attivare percorsi di bioeconomia circolare in agricoltura. \nPosti limitati. Per partecipare: press@assobioplastiche.org \n\n\n\n-> Consulta il programma <-
URL:https://federbioservizi.it/evento/il-valore-delle-bioplastiche-per-unagricoltura-circolare/
LOCATION:Sede Regione Emilia Romagna e Umbria\, Via Barberini\, 11\, Roma\, Italia
ATTACH;FMTTYPE=image/jpeg:https://federbioservizi.it/wp-content/uploads/2022/07/Pomodoro-pacciamato-da-industria-bio-2-scaled.jpeg
ORGANIZER;CN="FederBio Servizi":MAILTO:info@federbioservizi.it
END:VEVENT
BEGIN:VEVENT
DTSTART;TZID=Europe/Rome:20220706T090000
DTEND;TZID=Europe/Rome:20220706T130000
DTSTAMP:20260419T154743
CREATED:20220621T135345Z
LAST-MODIFIED:20220701T143319Z
UID:4797-1657098000-1657112400@federbioservizi.it
SUMMARY:BioDemoFarm Mais - Tecniche innovative di coltivazione biologica del mais per la produzione di pasta alimentare
DESCRIPTION:Tecniche innovative di coltivazione biologica del mais per la produzione di pasta alimentare\nRassegna Fiere in campo BioDemoFarm 2022\nSi terrà mercoledì 6 luglio\, dalle ore 9:00 alle ore 13:00\, presso l’Azienda Agraria Sperimentale Stuard a Parma\, la terza delle quattro fiere in campo sul mais biologico organizzate dalla rete di aziende dimostrative BioDemoFarm\, pensata da FederBio Servizi per promuovere il trasferimento delle innovazioni in agricoltura biologica. \nLa giornata\, organizzata da FederBio Servizi e Azienda Agraria Sperimentale Stuard\, con il supporto di Bologna Fiere – Sanatech\, sarà dedicata alle innovazioni nella coltivazione biologica del mais per la produzione di pasta alimenta. \nL’evento sarà a partecipazione gratuita\, previa registrazione. \nScarica qui il programma dell’evento\n-> Iscriviti qui <- 
URL:https://federbioservizi.it/evento/biodemofarm-mais-tecniche-innovative-di-coltivazione-biologica-del-mais-per-la-produzione-di-pasta-alimentare/
LOCATION:Azienda Agraria Sperimentale Stuard\, Str. Madonna dell'Aiuto\, 7/a\, Parma\, (PR)\, 43126\, Italia
ATTACH;FMTTYPE=image/png:https://federbioservizi.it/wp-content/uploads/2021/06/Logo-BioDemoFarm.png
ORGANIZER;CN="FederBio Servizi":MAILTO:info@federbioservizi.it
END:VEVENT
BEGIN:VEVENT
DTSTART;TZID=Europe/Rome:20220706T090000
DTEND;TZID=Europe/Rome:20220706T130000
DTSTAMP:20260419T154743
CREATED:20220621T135345Z
LAST-MODIFIED:20220621T135345Z
UID:11049-1657098000-1657112400@federbioservizi.it
SUMMARY:BioDemoFarm Mais - Tecniche innovative di coltivazione biologica del mais per la produzione di pasta alimentare
DESCRIPTION:Tecniche innovative di coltivazione biologica del mais per la produzione di pasta alimentare\nRassegna Fiere in campo BioDemoFarm 2022\nSi terrà mercoledì 6 luglio\, dalle ore 9:00 alle ore 13:00\, presso l’Azienda Agraria Sperimentale Stuard a Parma\, la terza delle quattro fiere in campo sul mais biologico organizzate dalla rete di aziende dimostrative BioDemoFarm\, pensata da FederBio Servizi per promuovere il trasferimento delle innovazioni in agricoltura biologica. \nLa giornata\, organizzata da FederBio Servizi e Azienda Agraria Sperimentale Stuard\, con il supporto di Bologna Fiere – Sanatech\, sarà dedicata alle innovazioni nella coltivazione biologica del mais per la produzione di pasta alimenta. \nL’evento sarà a partecipazione gratuita\, previa registrazione. \nScarica qui il programma dell’evento\n-> Iscriviti qui <- 
URL:https://federbioservizi.it/evento/biodemofarm-mais-tecniche-innovative-di-coltivazione-biologica-del-mais-per-la-produzione-di-pasta-alimentare-2/
LOCATION:Azienda Agraria Sperimentale Stuard\, Str. Madonna dell'Aiuto\, 7/a\, Parma\, (PR)\, 43126\, Italia
ATTACH;FMTTYPE=image/png:https://federbioservizi.it/wp-content/uploads/2021/06/Logo-BioDemoFarm.png
ORGANIZER;CN="FederBio Servizi":MAILTO:info@federbioservizi.it
END:VEVENT
BEGIN:VEVENT
DTSTART;TZID=Europe/Rome:20220520T090000
DTEND;TZID=Europe/Rome:20220520T130000
DTSTAMP:20260419T154743
CREATED:20220414T095055Z
LAST-MODIFIED:20220518T150247Z
UID:4604-1653037200-1653051600@federbioservizi.it
SUMMARY:BioDemoFarm Pomodoro 2022 - Le innovazioni per il pomodoro da industria in agricoltura biologica
DESCRIPTION:La fiera in campo sulle innovazioni per il pomodoro da industria in agricoltura biologica\, organizzata da FederBio Servizi e l’Azienda Agraria Sperimentale Stuard nell’ambito del progetto BioDemoFarm intende proporre un’occasione di confronto e di scambio di conoscenze sulle innovazioni con dimostrazioni di campo per chi realizza produzioni con metodo biologico. \nBioDemoFarm è il progetto di FederBio Servizi per il trasferimento di conoscenze verso il mondo produttivo delle migliori innovazioni per l’agricoltura biologica. BioDemoFarm intende rispondere all’esigenza crescente degli operatori delle filiere biologiche di individuare le migliori innovazioni tecniche\, tecnologiche ed organizzative disponibili sul mercato e di potervi accedere in modo mirato e personalizzato. \nScarica il programma dell’evento\n-> Registrati qui <-
URL:https://federbioservizi.it/evento/biodemofarm-pomodoro-2022-le-innovazioni-per-il-pomodoro-da-industria-in-agricoltura-biologica/
LOCATION:Azienda Agraria Sperimentale Stuard\, Str. Madonna dell'Aiuto\, 7/a\, Parma\, (PR)\, 43126\, Italia
ATTACH;FMTTYPE=image/jpeg:https://federbioservizi.it/wp-content/uploads/2019/01/Pomodori.jpg
ORGANIZER;CN="FederBio Servizi":MAILTO:info@federbioservizi.it
END:VEVENT
BEGIN:VEVENT
DTSTART;TZID=Europe/Rome:20220520T090000
DTEND;TZID=Europe/Rome:20220520T130000
DTSTAMP:20260419T154743
CREATED:20220414T095055Z
LAST-MODIFIED:20220414T095055Z
UID:11039-1653037200-1653051600@federbioservizi.it
SUMMARY:BioDemoFarm Pomodoro 2022 - Le innovazioni per il pomodoro da industria in agricoltura biologica
DESCRIPTION:La fiera in campo sulle innovazioni per il pomodoro da industria in agricoltura biologica\, organizzata da FederBio Servizi e l’Azienda Agraria Sperimentale Stuard nell’ambito del progetto BioDemoFarm intende proporre un’occasione di confronto e di scambio di conoscenze sulle innovazioni con dimostrazioni di campo per chi realizza produzioni con metodo biologico. \nBioDemoFarm è il progetto di FederBio Servizi per il trasferimento di conoscenze verso il mondo produttivo delle migliori innovazioni per l’agricoltura biologica. BioDemoFarm intende rispondere all’esigenza crescente degli operatori delle filiere biologiche di individuare le migliori innovazioni tecniche\, tecnologiche ed organizzative disponibili sul mercato e di potervi accedere in modo mirato e personalizzato. \nScarica il programma dell’evento\n-> Registrati qui <-
URL:https://federbioservizi.it/evento/biodemofarm-pomodoro-2022-le-innovazioni-per-il-pomodoro-da-industria-in-agricoltura-biologica-2/
LOCATION:Azienda Agraria Sperimentale Stuard\, Str. Madonna dell'Aiuto\, 7/a\, Parma\, (PR)\, 43126\, Italia
ATTACH;FMTTYPE=image/jpeg:https://federbioservizi.it/wp-content/uploads/2019/01/Pomodori.jpg
ORGANIZER;CN="FederBio Servizi":MAILTO:info@federbioservizi.it
END:VEVENT
BEGIN:VEVENT
DTSTART;TZID=Europe/Rome:20211007T144500
DTEND;TZID=Europe/Rome:20211007T180000
DTSTAMP:20260419T154743
CREATED:20210927T140427Z
LAST-MODIFIED:20210929T092520Z
UID:4142-1633617900-1633629600@federbioservizi.it
SUMMARY:Evento di presentazione dei risultati del progetto STARTUP BIO
DESCRIPTION:Parma\, 7 ottobre 2021\n“Strumenti e risorse per un’identità rurale dell’Area Mediterranea attraverso l’agricoltura biologica”\nEvento di disseminazione e presentazione dei risultati del progetto STARTUP BIO\nSi avvia verso la sua fine il progetto STARTUP BIO – Programma Erasmus+\, finalizzato a favorire la transizione dall’agricoltura convenzionale a quella biologica e a supportare i processi di innovazione delle aziende agricole. Il progetto\, frutto di una partnership tra FederBio Servizi\, Centoform e attori internazionali quali Ecovalia (Spagna)\, Agribio (Portogallo)\, Akep (Grecia)\, FiBL Europa (Belgio) e IFOAM\, è attualmente alla terza fase della sua implementazione che prevede un supporto diretto agli agricoltori biologici selezionati grazie al Virtual Incubator. \nGiovedì 7 ottobre alle 14.45 si terrà l’evento di disseminazione “Strumenti e risorse per un’identità rurale dell’Area Mediterranea attraverso l’agricoltura biologica” con la presentazione dei risultati del progetto a cura di Mariaelena Romanini di Centoform e la partecipazione di Sebastiano Pizzigalli – incaricato alle politiche agricole e rapporti con il territorio del Comune di Parma\, Roberto Reggiani – Direttore dell’Azienda Agraria Sperimentale Stuard\, Maria Grazia Mammuccini – Presidente FederBio e Marina Arias – Direzione Generale Agricoltura della Regione Emilia-Romagna. \nSCARICA IL PROGRAMMA DELL’EVENTO
URL:https://federbioservizi.it/evento/evento-di-presentazione-dei-risultati-del-progetto-startup-bio/
LOCATION:Azienda Agraria Sperimentale Stuard\, Str. Madonna dell'Aiuto\, 7/a\, Parma\, (PR)\, 43126\, Italia
ATTACH;FMTTYPE=image/png:https://federbioservizi.it/wp-content/uploads/2021/04/Logo-start-up-bio.png
ORGANIZER;CN="FederBio Servizi":MAILTO:info@federbioservizi.it
END:VEVENT
BEGIN:VEVENT
DTSTART;TZID=Europe/Rome:20211007T144500
DTEND;TZID=Europe/Rome:20211007T180000
DTSTAMP:20260419T154743
CREATED:20210927T140427Z
LAST-MODIFIED:20210927T140427Z
UID:11029-1633617900-1633629600@federbioservizi.it
SUMMARY:Evento di presentazione dei risultati del progetto STARTUP BIO
DESCRIPTION:Parma\, 7 ottobre 2021\n“Strumenti e risorse per un’identità rurale dell’Area Mediterranea attraverso l’agricoltura biologica”\nEvento di disseminazione e presentazione dei risultati del progetto STARTUP BIO\nSi avvia verso la sua fine il progetto STARTUP BIO – Programma Erasmus+\, finalizzato a favorire la transizione dall’agricoltura convenzionale a quella biologica e a supportare i processi di innovazione delle aziende agricole. Il progetto\, frutto di una partnership tra FederBio Servizi\, Centoform e attori internazionali quali Ecovalia (Spagna)\, Agribio (Portogallo)\, Akep (Grecia)\, FiBL Europa (Belgio) e IFOAM\, è attualmente alla terza fase della sua implementazione che prevede un supporto diretto agli agricoltori biologici selezionati grazie al Virtual Incubator. \nGiovedì 7 ottobre alle 14.45 si terrà l’evento di disseminazione “Strumenti e risorse per un’identità rurale dell’Area Mediterranea attraverso l’agricoltura biologica” con la presentazione dei risultati del progetto a cura di Mariaelena Romanini di Centoform e la partecipazione di Sebastiano Pizzigalli – incaricato alle politiche agricole e rapporti con il territorio del Comune di Parma\, Roberto Reggiani – Direttore dell’Azienda Agraria Sperimentale Stuard\, Maria Grazia Mammuccini – Presidente FederBio e Marina Arias – Direzione Generale Agricoltura della Regione Emilia-Romagna. \nSCARICA IL PROGRAMMA DELL’EVENTO
URL:https://federbioservizi.it/evento/evento-di-presentazione-dei-risultati-del-progetto-startup-bio-2/
LOCATION:Azienda Agraria Sperimentale Stuard\, Str. Madonna dell'Aiuto\, 7/a\, Parma\, (PR)\, 43126\, Italia
ATTACH;FMTTYPE=image/png:https://federbioservizi.it/wp-content/uploads/2021/04/Logo-start-up-bio.png
ORGANIZER;CN="FederBio Servizi":MAILTO:info@federbioservizi.it
END:VEVENT
END:VCALENDAR