BEGIN:VCALENDAR
VERSION:2.0
PRODID:-//FederBio Servizi - ECPv6.15.17.1//NONSGML v1.0//EN
CALSCALE:GREGORIAN
METHOD:PUBLISH
X-ORIGINAL-URL:https://federbioservizi.it
X-WR-CALDESC:Eventi per FederBio Servizi
REFRESH-INTERVAL;VALUE=DURATION:PT1H
X-Robots-Tag:noindex
X-PUBLISHED-TTL:PT1H
BEGIN:VTIMEZONE
TZID:Europe/Rome
BEGIN:DAYLIGHT
TZOFFSETFROM:+0100
TZOFFSETTO:+0200
TZNAME:CEST
DTSTART:20220327T010000
END:DAYLIGHT
BEGIN:STANDARD
TZOFFSETFROM:+0200
TZOFFSETTO:+0100
TZNAME:CET
DTSTART:20221030T010000
END:STANDARD
BEGIN:DAYLIGHT
TZOFFSETFROM:+0100
TZOFFSETTO:+0200
TZNAME:CEST
DTSTART:20230326T010000
END:DAYLIGHT
BEGIN:STANDARD
TZOFFSETFROM:+0200
TZOFFSETTO:+0100
TZNAME:CET
DTSTART:20231029T010000
END:STANDARD
BEGIN:DAYLIGHT
TZOFFSETFROM:+0100
TZOFFSETTO:+0200
TZNAME:CEST
DTSTART:20240331T010000
END:DAYLIGHT
BEGIN:STANDARD
TZOFFSETFROM:+0200
TZOFFSETTO:+0100
TZNAME:CET
DTSTART:20241027T010000
END:STANDARD
END:VTIMEZONE
BEGIN:VEVENT
DTSTART;TZID=Europe/Rome:20230403T090000
DTEND;TZID=Europe/Rome:20230419T120000
DTSTAMP:20260419T082651
CREATED:20230306T144308Z
LAST-MODIFIED:20230306T144308Z
UID:5581-1680512400-1681905600@federbioservizi.it
SUMMARY:Corso di formazione_Come rispettare le nuove regole per la produzione‚ l'etichettatura e i controlli per le imprese agroalimentari biologiche (Reg. UE 2018/848)
DESCRIPTION:Corso:\nCome rispettare le nuove regole per la produzione‚ l’etichettatura e i controlli per le imprese agroalimentari biologiche (Reg. UE 2018/848)\nWebinar\, 3-5-17-19 aprile 2023\n\n\n\nScopo del corso è fornire indicazioni per rispettare tutti gli obblighi imposti dal nuovo Reg. UE 2018/848 che riguardano i prodotti biologici. Le aziende della filiera agroalimentare bio devono adeguarsi agli adempimenti previsti\, dal punto di vista sia produttivo che documentale. Il corso online ha come obiettivo quello di fornire indicazioni per rispettare tutti gli obblighi ed evitare sanzioni. \n\n\n\n\n-> Iscriviti al corso <-
URL:https://federbioservizi.it/evento/corso-di-formazione_come-rispettare-le-nuove-regole/
LOCATION:Online\, Italia
ATTACH;FMTTYPE=image/jpeg:https://federbioservizi.it/wp-content/uploads/2019/02/Pane-agroalimentare.jpg
ORGANIZER;CN="FederBio Servizi":MAILTO:info@federbioservizi.it
END:VEVENT
BEGIN:VEVENT
DTSTART;TZID=Europe/Rome:20230403T090000
DTEND;TZID=Europe/Rome:20230419T120000
DTSTAMP:20260419T082651
CREATED:20230306T144308Z
LAST-MODIFIED:20230306T144308Z
UID:11068-1680512400-1681905600@federbioservizi.it
SUMMARY:Corso di formazione_Come rispettare le nuove regole per la produzione‚ l'etichettatura e i controlli per le imprese agroalimentari biologiche (Reg. UE 2018/848)
DESCRIPTION:Corso:\nCome rispettare le nuove regole per la produzione‚ l’etichettatura e i controlli per le imprese agroalimentari biologiche (Reg. UE 2018/848)\nWebinar\, 3-5-17-19 aprile 2023\n\n\n\nScopo del corso è fornire indicazioni per rispettare tutti gli obblighi imposti dal nuovo Reg. UE 2018/848 che riguardano i prodotti biologici. Le aziende della filiera agroalimentare bio devono adeguarsi agli adempimenti previsti\, dal punto di vista sia produttivo che documentale. Il corso online ha come obiettivo quello di fornire indicazioni per rispettare tutti gli obblighi ed evitare sanzioni. \n\n\n\n\n-> Iscriviti al corso <-
URL:https://federbioservizi.it/evento/corso-di-formazione_come-rispettare-le-nuove-regole-2/
LOCATION:Online\, Italia
ATTACH;FMTTYPE=image/jpeg:https://federbioservizi.it/wp-content/uploads/2019/02/Pane-agroalimentare.jpg
ORGANIZER;CN="FederBio Servizi":MAILTO:info@federbioservizi.it
END:VEVENT
END:VCALENDAR