BEGIN:VCALENDAR
VERSION:2.0
PRODID:-//FederBio Servizi - ECPv6.15.17.1//NONSGML v1.0//EN
CALSCALE:GREGORIAN
METHOD:PUBLISH
X-ORIGINAL-URL:https://federbioservizi.it
X-WR-CALDESC:Eventi per FederBio Servizi
REFRESH-INTERVAL;VALUE=DURATION:PT1H
X-Robots-Tag:noindex
X-PUBLISHED-TTL:PT1H
BEGIN:VTIMEZONE
TZID:Europe/Rome
BEGIN:DAYLIGHT
TZOFFSETFROM:+0100
TZOFFSETTO:+0200
TZNAME:CEST
DTSTART:20230326T010000
END:DAYLIGHT
BEGIN:STANDARD
TZOFFSETFROM:+0200
TZOFFSETTO:+0100
TZNAME:CET
DTSTART:20231029T010000
END:STANDARD
BEGIN:DAYLIGHT
TZOFFSETFROM:+0100
TZOFFSETTO:+0200
TZNAME:CEST
DTSTART:20240331T010000
END:DAYLIGHT
BEGIN:STANDARD
TZOFFSETFROM:+0200
TZOFFSETTO:+0100
TZNAME:CET
DTSTART:20241027T010000
END:STANDARD
BEGIN:DAYLIGHT
TZOFFSETFROM:+0100
TZOFFSETTO:+0200
TZNAME:CEST
DTSTART:20250330T010000
END:DAYLIGHT
BEGIN:STANDARD
TZOFFSETFROM:+0200
TZOFFSETTO:+0100
TZNAME:CET
DTSTART:20251026T010000
END:STANDARD
END:VTIMEZONE
BEGIN:VEVENT
DTSTART;TZID=Europe/Rome:20240924T090000
DTEND;TZID=Europe/Rome:20240924T140000
DTSTAMP:20260418T144742
CREATED:20240930T060422Z
LAST-MODIFIED:20240930T060422Z
UID:11100-1727168400-1727186400@federbioservizi.it
SUMMARY:Innovazione in campo BIO | Nuovi strumenti nella viticoltura biologica: sfide e strategie per un settore sempre più evoluto
DESCRIPTION:Martedì 24 settembre 2024 a partire dalle ore 09.30 presso l’Az. Barone Pizzini in Franciacorta a Provaglio d’Iseo (BS) si terrà la giornata sull’innovazione in campo bio dal titolo  \nNUOVI STRUMENTI NELLA VITICOLTURA BIOLOGICA: sfide e strategie per un settore sempre più evoluto  \nL’evento è organizzato da FederBio in collaborazione con FederBio Servizi e rientra nel progetto  \nPNABio – Piattaforma nazionale di attività e servizi per il biologico italiano in movimento. \nUn’opportunità per incontrare\, conoscere e scoprire nuovi prodotti\, servizi e soluzioni per una corretta gestione del vigneto biologico. \nLa giornata prevede un seminario tecnico sulla difesa della vite in biologico dalla peronospora\, a cura dello SATA studio agronomico. Seguirà una visita in campo sull’innovazione a servizio della moderna viticoltura biologica con esposizioni di aziende leader del settore e si concluderà con una visita gratuita alla cantina Barone Pizzini. \nProgramma innovazione in campo BIO 24 sett-4 \nVi aspettiamo!
URL:https://federbioservizi.it/evento/innovazione-in-campo-bio-nuovi-strumenti-nella-viticoltura-biologica-sfide-e-strategie-per-un-settore-sempre-piu-evoluto-2/
LOCATION:barone pizzini
ATTACH;FMTTYPE=image/jpeg:https://federbioservizi.it/wp-content/uploads/2023/11/vigneto.jpg
END:VEVENT
BEGIN:VEVENT
DTSTART;TZID=Europe/Rome:20240924T090000
DTEND;TZID=Europe/Rome:20240924T140000
DTSTAMP:20260418T144742
CREATED:20240930T060422Z
LAST-MODIFIED:20240930T060422Z
UID:6619-1727168400-1727186400@federbioservizi.it
SUMMARY:Innovazione in campo BIO | Nuovi strumenti nella viticoltura biologica: sfide e strategie per un settore sempre più evoluto
DESCRIPTION:Martedì 24 settembre 2024 a partire dalle ore 09.30 presso l’Az. Barone Pizzini in Franciacorta a Provaglio d’Iseo (BS) si terrà la giornata sull’innovazione in campo bio dal titolo  \nNUOVI STRUMENTI NELLA VITICOLTURA BIOLOGICA: sfide e strategie per un settore sempre più evoluto  \nL’evento è organizzato da FederBio in collaborazione con FederBio Servizi e rientra nel progetto  \nPNABio – Piattaforma nazionale di attività e servizi per il biologico italiano in movimento. \nUn’opportunità per incontrare\, conoscere e scoprire nuovi prodotti\, servizi e soluzioni per una corretta gestione del vigneto biologico. \nLa giornata prevede un seminario tecnico sulla difesa della vite in biologico dalla peronospora\, a cura dello SATA studio agronomico. Seguirà una visita in campo sull’innovazione a servizio della moderna viticoltura biologica con esposizioni di aziende leader del settore e si concluderà con una visita gratuita alla cantina Barone Pizzini. \nProgramma innovazione in campo BIO 24 sett-4 \nVi aspettiamo!
URL:https://federbioservizi.it/evento/innovazione-in-campo-bio-nuovi-strumenti-nella-viticoltura-biologica-sfide-e-strategie-per-un-settore-sempre-piu-evoluto/
LOCATION:barone pizzini
ATTACH;FMTTYPE=image/jpeg:https://federbioservizi.it/wp-content/uploads/2023/11/vigneto.jpg
END:VEVENT
BEGIN:VEVENT
DTSTART;TZID=Europe/Rome:20240522T090000
DTEND;TZID=Europe/Rome:20240522T140000
DTSTAMP:20260418T144742
CREATED:20240930T063118Z
LAST-MODIFIED:20240930T063519Z
UID:6624-1716368400-1716386400@federbioservizi.it
SUMMARY:Innovazione in campo BIO | PNABio
DESCRIPTION:Mercoledì 22 maggio dalle h. 10.30 a Rovigo si terrà una giornata in campo su: L’INNOVAZIONE IN CAMPO BIO. \nL’evento è organizzato da FederBio in collaborazione con Consorzi Agrari d’Italia e rientra nel progetto PNABio – Piattaforma nazionale di attività e servizi per il biologico italiano in movimento. \nI focus sull’innovazione in campo rappresentano un’occasione per presentare agli agricoltori i risultati dell’attività di ricerca e sviluppo svolta nel corso dell’anno: dallo studio del terreno alla scelta del seme\, dalle strategie di difesa alla concimazione e irrigazione\, passando per l’agricoltura di precisione e la raccolta. \nRovigo 22 maggio_flyer \nVi aspettiamo!
URL:https://federbioservizi.it/evento/innovazione-in-campo-bio-pnabio/
LOCATION:Agriturismo Millefiori Rovigo
ATTACH;FMTTYPE=image/jpeg:https://federbioservizi.it/wp-content/uploads/2024/09/wheat-field-5392067_1280.jpg
END:VEVENT
BEGIN:VEVENT
DTSTART;TZID=Europe/Rome:20240522T090000
DTEND;TZID=Europe/Rome:20240522T140000
DTSTAMP:20260418T144742
CREATED:20240930T063118Z
LAST-MODIFIED:20240930T063118Z
UID:11101-1716368400-1716386400@federbioservizi.it
SUMMARY:Innovazione in campo BIO | PNABio
DESCRIPTION:Mercoledì 22 maggio dalle h. 10.30 a Rovigo si terrà una giornata in campo su: L’INNOVAZIONE IN CAMPO BIO. \nL’evento è organizzato da FederBio in collaborazione con Consorzi Agrari d’Italia e rientra nel progetto PNABio – Piattaforma nazionale di attività e servizi per il biologico italiano in movimento. \nI focus sull’innovazione in campo rappresentano un’occasione per presentare agli agricoltori i risultati dell’attività di ricerca e sviluppo svolta nel corso dell’anno: dallo studio del terreno alla scelta del seme\, dalle strategie di difesa alla concimazione e irrigazione\, passando per l’agricoltura di precisione e la raccolta. \nRovigo 22 maggio_flyer \nVi aspettiamo!
URL:https://federbioservizi.it/evento/innovazione-in-campo-bio-pnabio-2/
LOCATION:Agriturismo Millefiori Rovigo
ATTACH;FMTTYPE=image/jpeg:https://federbioservizi.it/wp-content/uploads/2024/09/wheat-field-5392067_1280.jpg
END:VEVENT
BEGIN:VEVENT
DTSTART;TZID=Europe/Rome:20240515T103000
DTEND;TZID=Europe/Rome:20240515T140000
DTSTAMP:20260418T144742
CREATED:20240927T064847Z
LAST-MODIFIED:20240927T064847Z
UID:11099-1715769000-1715781600@federbioservizi.it
SUMMARY:FOCUS SULL’INNOVAZIONE IN CAMPO BIO | 15 maggio 2024
DESCRIPTION:Giovedì 15 maggio 2024 dalle h.10.30 a Idice (BO) si terrà la giornata in campo \nINNOVAZIONE IN CAMPO BIO\n \nL’evento è organizzato da FederBio in collaborazione con Consorzi Agrari d’Italia e rientra nel progetto  PNABio – Piattaforma nazionale di attività e servizi per il biologico italiano in movimento.  \nI focus sull’innovazione in campo rappresentano un’occasione per presentare agli agricoltori i risultati dell’attività di ricerca e sviluppo svolta nel corso dell’anno: dallo studio del terreno alla scelta del seme\, dalle strategie di difesa alla concimazione e irrigazione\, passando per l’agricoltura di precisione e la raccolta. \nFederBio con il contributo di FederBio Servizi è da sempre impegnata nel voler favorire la transizione dell’innovazione in agricoltura biologica per promuovere strumenti utili al raggiungimento di elevati standard quali-quantitativi di produzione biologica.\nL’obiettivo è favorire l’adozione delle innovazioni da parte degli imprenditori agricoli bio e incentivare investimenti mirati da parte delle aziende. \nIdice 15 maggio flyer \nVi aspettiamo!
URL:https://federbioservizi.it/evento/focus-sullinnovazione-in-campo-bio-15-maggio-2024-2/
LOCATION:Idice (BO)
ATTACH;FMTTYPE=image/jpeg:https://federbioservizi.it/wp-content/uploads/2024/09/wheat-field-5392067_1280.jpg
END:VEVENT
BEGIN:VEVENT
DTSTART;TZID=Europe/Rome:20240515T103000
DTEND;TZID=Europe/Rome:20240515T140000
DTSTAMP:20260418T144742
CREATED:20240927T064847Z
LAST-MODIFIED:20240927T064847Z
UID:6615-1715769000-1715781600@federbioservizi.it
SUMMARY:FOCUS SULL’INNOVAZIONE IN CAMPO BIO | 15 maggio 2024
DESCRIPTION:Giovedì 15 maggio 2024 dalle h.10.30 a Idice (BO) si terrà la giornata in campo \nINNOVAZIONE IN CAMPO BIO\n \nL’evento è organizzato da FederBio in collaborazione con Consorzi Agrari d’Italia e rientra nel progetto  PNABio – Piattaforma nazionale di attività e servizi per il biologico italiano in movimento.  \nI focus sull’innovazione in campo rappresentano un’occasione per presentare agli agricoltori i risultati dell’attività di ricerca e sviluppo svolta nel corso dell’anno: dallo studio del terreno alla scelta del seme\, dalle strategie di difesa alla concimazione e irrigazione\, passando per l’agricoltura di precisione e la raccolta. \nFederBio con il contributo di FederBio Servizi è da sempre impegnata nel voler favorire la transizione dell’innovazione in agricoltura biologica per promuovere strumenti utili al raggiungimento di elevati standard quali-quantitativi di produzione biologica.\nL’obiettivo è favorire l’adozione delle innovazioni da parte degli imprenditori agricoli bio e incentivare investimenti mirati da parte delle aziende. \nIdice 15 maggio flyer \nVi aspettiamo!
URL:https://federbioservizi.it/evento/focus-sullinnovazione-in-campo-bio-15-maggio-2024/
LOCATION:Idice (BO)
ATTACH;FMTTYPE=image/jpeg:https://federbioservizi.it/wp-content/uploads/2024/09/wheat-field-5392067_1280.jpg
END:VEVENT
BEGIN:VEVENT
DTSTART;TZID=Europe/Rome:20240509T140000
DTEND;TZID=Europe/Rome:20240509T170000
DTSTAMP:20260418T144742
CREATED:20240927T063509Z
LAST-MODIFIED:20240927T063509Z
UID:11098-1715263200-1715274000@federbioservizi.it
SUMMARY:FOCUS SULL’INNOVAZIONE IN CAMPO BIO | 9 maggio 2024
DESCRIPTION:Giovedì 9 maggio 2024 dalle h.14.00 alle 17.00 a Tolentino (MC) si terrà la giornata in campo \nINNOVAZIONE IN CAMPO BIO\n \nL’evento è organizzato da FederBio in collaborazione con Consorzi Agrari d’Italia e rientra nel progetto  PNABio – Piattaforma nazionale di attività e servizi per il biologico italiano in movimento.  \nI focus sull’innovazione in campo rappresentano un’occasione per presentare agli agricoltori i risultati dell’attività di ricerca e sviluppo svolta nel corso dell’anno: dallo studio del terreno alla scelta del seme\, dalle strategie di difesa alla concimazione e irrigazione\, passando per l’agricoltura di precisione e la raccolta. \nFederBio con il contributo di FederBio Servizi è da sempre impegnata nel voler favorire la transizione dell’innovazione in agricoltura biologica per promuovere strumenti utili al raggiungimento di elevati standard quali-quantitativi di produzione biologica.\nL’obiettivo è favorire l’adozione delle innovazioni da parte degli imprenditori agricoli bio e incentivare investimenti mirati da parte delle aziende. \nTolentino\, 9 maggio 2024 \nVi aspettiamo!
URL:https://federbioservizi.it/evento/focus-sullinnovazione-in-campo-bio-9-maggio-2024-2/
LOCATION:Tolenino (MC)
ATTACH;FMTTYPE=image/jpeg:https://federbioservizi.it/wp-content/uploads/2024/09/wheat-field-5392067_1280.jpg
END:VEVENT
BEGIN:VEVENT
DTSTART;TZID=Europe/Rome:20240509T140000
DTEND;TZID=Europe/Rome:20240509T170000
DTSTAMP:20260418T144742
CREATED:20240927T063509Z
LAST-MODIFIED:20240927T063842Z
UID:6610-1715263200-1715274000@federbioservizi.it
SUMMARY:FOCUS SULL’INNOVAZIONE IN CAMPO BIO | 9 maggio 2024
DESCRIPTION:Giovedì 9 maggio 2024 dalle h.14.00 alle 17.00 a Tolentino (MC) si terrà la giornata in campo \nINNOVAZIONE IN CAMPO BIO\n \nL’evento è organizzato da FederBio in collaborazione con Consorzi Agrari d’Italia e rientra nel progetto  PNABio – Piattaforma nazionale di attività e servizi per il biologico italiano in movimento.  \nI focus sull’innovazione in campo rappresentano un’occasione per presentare agli agricoltori i risultati dell’attività di ricerca e sviluppo svolta nel corso dell’anno: dallo studio del terreno alla scelta del seme\, dalle strategie di difesa alla concimazione e irrigazione\, passando per l’agricoltura di precisione e la raccolta. \nFederBio con il contributo di FederBio Servizi è da sempre impegnata nel voler favorire la transizione dell’innovazione in agricoltura biologica per promuovere strumenti utili al raggiungimento di elevati standard quali-quantitativi di produzione biologica.\nL’obiettivo è favorire l’adozione delle innovazioni da parte degli imprenditori agricoli bio e incentivare investimenti mirati da parte delle aziende. \nTolentino\, 9 maggio 2024 \nVi aspettiamo!
URL:https://federbioservizi.it/evento/focus-sullinnovazione-in-campo-bio-9-maggio-2024/
LOCATION:Tolenino (MC)
ATTACH;FMTTYPE=image/jpeg:https://federbioservizi.it/wp-content/uploads/2024/09/wheat-field-5392067_1280.jpg
END:VEVENT
BEGIN:VEVENT
DTSTART;TZID=Europe/Rome:20240508T140000
DTEND;TZID=Europe/Rome:20240508T170000
DTSTAMP:20260418T144742
CREATED:20240927T061911Z
LAST-MODIFIED:20240927T061911Z
UID:11097-1715176800-1715187600@federbioservizi.it
SUMMARY:FOCUS SULL’INNOVAZIONE IN CAMPO BIO | 8 maggio 2024
DESCRIPTION:Mercoledì 8 maggio 2024 dalle h.14.00 alle 17.00 a Spinazzola (BT) si terrà la giornata in campo \nINNOVAZIONE IN CAMPO BIO\n \nL’evento è organizzato da FederBio in collaborazione con Consorzi Agrari d’Italia e rientra nel progetto  PNABio – Piattaforma nazionale di attività e servizi per il biologico italiano in movimento.  \nI focus sull’innovazione in campo rappresentano un’occasione per presentare agli agricoltori i risultati dell’attività di ricerca e sviluppo svolta nel corso dell’anno: dallo studio del terreno alla scelta del seme\, dalle strategie di difesa alla concimazione e irrigazione\, passando per l’agricoltura di precisione e la raccolta. \nFederBio con il contributo di FederBio Servizi è da sempre impegnata nel voler favorire la transizione dell’innovazione in agricoltura biologica per promuovere strumenti utili al raggiungimento di elevati standard quali-quantitativi di produzione biologica.\nL’obiettivo è favorire l’adozione delle innovazioni da parte degli imprenditori agricoli bio e incentivare investimenti mirati da parte delle aziende. \nEvento a Spinazzola_8maggio \nVi aspettiamo!
URL:https://federbioservizi.it/evento/focus-sullinnovazione-in-campo-bio-8-maggio-2024-2/
LOCATION:Spinazzola (BT)
ATTACH;FMTTYPE=image/jpeg:https://federbioservizi.it/wp-content/uploads/2024/09/wheat-field-5392067_1280.jpg
END:VEVENT
BEGIN:VEVENT
DTSTART;TZID=Europe/Rome:20240508T140000
DTEND;TZID=Europe/Rome:20240508T170000
DTSTAMP:20260418T144742
CREATED:20240927T061911Z
LAST-MODIFIED:20240927T062825Z
UID:6601-1715176800-1715187600@federbioservizi.it
SUMMARY:FOCUS SULL’INNOVAZIONE IN CAMPO BIO | 8 maggio 2024
DESCRIPTION:Mercoledì 8 maggio 2024 dalle h.14.00 alle 17.00 a Spinazzola (BT) si terrà la giornata in campo \nINNOVAZIONE IN CAMPO BIO\n \nL’evento è organizzato da FederBio in collaborazione con Consorzi Agrari d’Italia e rientra nel progetto  PNABio – Piattaforma nazionale di attività e servizi per il biologico italiano in movimento.  \nI focus sull’innovazione in campo rappresentano un’occasione per presentare agli agricoltori i risultati dell’attività di ricerca e sviluppo svolta nel corso dell’anno: dallo studio del terreno alla scelta del seme\, dalle strategie di difesa alla concimazione e irrigazione\, passando per l’agricoltura di precisione e la raccolta. \nFederBio con il contributo di FederBio Servizi è da sempre impegnata nel voler favorire la transizione dell’innovazione in agricoltura biologica per promuovere strumenti utili al raggiungimento di elevati standard quali-quantitativi di produzione biologica.\nL’obiettivo è favorire l’adozione delle innovazioni da parte degli imprenditori agricoli bio e incentivare investimenti mirati da parte delle aziende. \nEvento a Spinazzola_8maggio \nVi aspettiamo!
URL:https://federbioservizi.it/evento/focus-sullinnovazione-in-campo-bio-8-maggio-2024/
LOCATION:Spinazzola (BT)
ATTACH;FMTTYPE=image/jpeg:https://federbioservizi.it/wp-content/uploads/2024/09/wheat-field-5392067_1280.jpg
END:VEVENT
BEGIN:VEVENT
DTSTART;VALUE=DATE:20240423
DTEND;VALUE=DATE:20240424
DTSTAMP:20260418T144742
CREATED:20240930T090354Z
LAST-MODIFIED:20240930T090354Z
UID:6631-1713830400-1713916799@federbioservizi.it
SUMMARY:Focus per l’innovazione in campo Bio Cereali | evento PNABio
DESCRIPTION:Martedì 23 aprile 2024 ad Alberese (GR) si terrà una giornata in campo su L’innovazione in campo Bio. \nL’evento è organizzato da FederBio in collaborazione con Consorzi Agrari d’Italia e rientra nel progetto PNABio – Piattaforma nazionale di attività e servizi per il biologico italiano in movimento.  \nI focus sull’innovazione in campo rappresentano un’occasione per presentare agli agricoltori i risultati dell’attività di ricerca e sviluppo svolta nel corso dell’anno: dallo studio del terreno alla scelta del seme\, dalle strategie di difesa alla concimazione e irrigazione\, passando per l’agricoltura di precisione e la raccolta. \nInnovazione in campo Bio_Alberese_23aprile \nVi aspettiamo!
URL:https://federbioservizi.it/evento/focus-per-linnovazione-in-campo-bio-cereali-evento-pnabio/
LOCATION:alberese
ATTACH;FMTTYPE=image/jpeg:https://federbioservizi.it/wp-content/uploads/2024/09/wheat-field-5392067_1280.jpg
END:VEVENT
BEGIN:VEVENT
DTSTART;VALUE=DATE:20240423
DTEND;VALUE=DATE:20240424
DTSTAMP:20260418T144742
CREATED:20240930T090354Z
LAST-MODIFIED:20240930T090354Z
UID:11102-1713830400-1713916799@federbioservizi.it
SUMMARY:Focus per l’innovazione in campo Bio Cereali | evento PNABio
DESCRIPTION:Martedì 23 aprile 2024 ad Alberese (GR) si terrà una giornata in campo su L’innovazione in campo Bio. \nL’evento è organizzato da FederBio in collaborazione con Consorzi Agrari d’Italia e rientra nel progetto PNABio – Piattaforma nazionale di attività e servizi per il biologico italiano in movimento.  \nI focus sull’innovazione in campo rappresentano un’occasione per presentare agli agricoltori i risultati dell’attività di ricerca e sviluppo svolta nel corso dell’anno: dallo studio del terreno alla scelta del seme\, dalle strategie di difesa alla concimazione e irrigazione\, passando per l’agricoltura di precisione e la raccolta. \nInnovazione in campo Bio_Alberese_23aprile \nVi aspettiamo!
URL:https://federbioservizi.it/evento/focus-per-linnovazione-in-campo-bio-cereali-evento-pnabio-2/
LOCATION:alberese
ATTACH;FMTTYPE=image/jpeg:https://federbioservizi.it/wp-content/uploads/2024/09/wheat-field-5392067_1280.jpg
END:VEVENT
END:VCALENDAR