BEGIN:VCALENDAR
VERSION:2.0
PRODID:-//FederBio Servizi - ECPv6.15.17.1//NONSGML v1.0//EN
CALSCALE:GREGORIAN
METHOD:PUBLISH
X-ORIGINAL-URL:https://federbioservizi.it
X-WR-CALDESC:Eventi per FederBio Servizi
REFRESH-INTERVAL;VALUE=DURATION:PT1H
X-Robots-Tag:noindex
X-PUBLISHED-TTL:PT1H
BEGIN:VTIMEZONE
TZID:Europe/Rome
BEGIN:DAYLIGHT
TZOFFSETFROM:+0100
TZOFFSETTO:+0200
TZNAME:CEST
DTSTART:20240331T010000
END:DAYLIGHT
BEGIN:STANDARD
TZOFFSETFROM:+0200
TZOFFSETTO:+0100
TZNAME:CET
DTSTART:20241027T010000
END:STANDARD
BEGIN:DAYLIGHT
TZOFFSETFROM:+0100
TZOFFSETTO:+0200
TZNAME:CEST
DTSTART:20250330T010000
END:DAYLIGHT
BEGIN:STANDARD
TZOFFSETFROM:+0200
TZOFFSETTO:+0100
TZNAME:CET
DTSTART:20251026T010000
END:STANDARD
BEGIN:DAYLIGHT
TZOFFSETFROM:+0100
TZOFFSETTO:+0200
TZNAME:CEST
DTSTART:20260329T010000
END:DAYLIGHT
BEGIN:STANDARD
TZOFFSETFROM:+0200
TZOFFSETTO:+0100
TZNAME:CET
DTSTART:20261025T010000
END:STANDARD
END:VTIMEZONE
BEGIN:VEVENT
DTSTART;TZID=Europe/Rome:20250221T093000
DTEND;TZID=Europe/Rome:20250221T123000
DTSTAMP:20260422T234846
CREATED:20250217T091406Z
LAST-MODIFIED:20250217T091406Z
UID:11106-1740130200-1740141000@federbioservizi.it
SUMMARY:Seminario PNABio | Agricoltura biologica e tecniche di fertilizzazione
DESCRIPTION:Il miglioramento del contenuto di sostanza organica nel suolo è fondamentale per la produttività agricola a lungo termine e per la sostenibilità degli ecosistemi agricoli. \nNe parleremo venerdì 21 febbraio 2025 dalle ore 09.30 alle ore 12.30\npresso Istituto Istruzione Superiore A.Turi c.da Rondinelle – Matera nel corso del seminario: \nAGRICOLTURA BIOLOGICA E TECNICHE DI FERTILIZZAZIONE \nIl seminario ha l’obiettivo di ragionare su come migliorare l’utilizzo dei fertilizzanti bio integrando un’adeguata rotazione colturale al fine di promuovere un’agricoltura sostenibile\, offrendo così numerosi benefici per il suolo. \nNe parleremo con esperti\, aziende e stakeholder del territorio. \nModera – Dott. Agr. Berloco Nicola\, Consorzio Puglia Natura \nRELAZIONI\nAgricoltura Biologica aggiornamenti normativi\, Dott. Berloco Nicola – Consorzio Puglia Natura – Andria \nStrategie di coltivazione del frumento duro in regime di Agricoltura biologica\, Dott. Fiore Angelo – Tecnico responsabile dell’azienda sperimentale campo 7 di Metaponto \nL’evento si concluderà con un light lunch\, offerto a tutti i partecipanti! \nPer partecipare all’evento è necessaria la registrazione al seguente form  \n✍️https://forms.gle/wiriJiYce3dprHY59 \nIl seminario è organizzato da FederBio in collaborazione con FederBio Servizi ed è parte del progetto \nPNABio – Piattaforma nazionale di attività e servizi per il biologico italiano in movimento.  \nFlyer Seminario del 21 febbraio 2025 Matera.docx \n 
URL:https://federbioservizi.it/evento/seminario-pnabio-agricoltura-biologica-e-tecniche-di-fertilizzazione-2/
ATTACH;FMTTYPE=image/png:https://federbioservizi.it/wp-content/uploads/2025/02/01-Fertilita-002.png
END:VEVENT
BEGIN:VEVENT
DTSTART;TZID=Europe/Rome:20250228T183000
DTEND;TZID=Europe/Rome:20250228T203000
DTSTAMP:20260422T234846
CREATED:20250215T151638Z
LAST-MODIFIED:20250215T151638Z
UID:6840-1740767400-1740774600@federbioservizi.it
SUMMARY:Seminario PNABio | PANE E SALAME BIO salumi biologici e vecchi frumenti
DESCRIPTION:In questa serata dedicata al pane e ai salumi BIOLOGICI potrai approfondire le tue conoscenze\nsulle tecniche di allevamento in AGRICOLTURA BIOLOGICA\ne sulla cerealicoltura BIOLOGICA. \nNe parleremo venerdì 28 febbraio 2025 dalle ore 18.30 alle ore 20.30\npresso NaturaSì Mantova\nVia Cremona\, 36\, 46100 Mantova MN. \nNe parleremo con esperti\, aziende e stakeholder del territorio. \nModera – Marcello Volanti\, Consigliere Associazione AVeProBi \nRELAZIONI \nIl benessere dei suini negli allevamenti biologici\nMarcello Volanti\, Medico Veterinario & Consigliere di AVeProBi\nStorie ed esperienze di un allevatore biologico e la produzione di salumi\nEmanuele Pedrazzoli\, Salumificio Pedrazzoli\nCereali antichi e farina biologica: dalla produzione alla panificazione\nGraziano Corbellari\, Natura e Vita \nL´evento si concluderà con una degustazione di salumi e pane biologici! \nPer partecipare all’evento è necessaria la registrazione al seguente form  \nhttps://forms.gle/6UtWcA7hn65ic51B6✍️ \nIl seminario è organizzato da FederBio in collaborazione con FederBio Servizi ed è parte del progetto \nPNABio – Piattaforma nazionale di attività e servizi per il biologico italiano in movimento.  \nFlyer Seminario Mantova 28febb25 \n  \n 
URL:https://federbioservizi.it/evento/seminario-pnabio-pane-e-salame-bio-salumi-biologici-e-vecchi-frumenti/
ATTACH;FMTTYPE=image/png:https://federbioservizi.it/wp-content/uploads/2025/02/Progetto-senza-titolo-1.png
END:VEVENT
END:VCALENDAR