BEGIN:VCALENDAR
VERSION:2.0
PRODID:-//FederBio Servizi - ECPv6.15.17.1//NONSGML v1.0//EN
CALSCALE:GREGORIAN
METHOD:PUBLISH
X-ORIGINAL-URL:https://federbioservizi.it
X-WR-CALDESC:Eventi per FederBio Servizi
REFRESH-INTERVAL;VALUE=DURATION:PT1H
X-Robots-Tag:noindex
X-PUBLISHED-TTL:PT1H
BEGIN:VTIMEZONE
TZID:Europe/Rome
BEGIN:DAYLIGHT
TZOFFSETFROM:+0100
TZOFFSETTO:+0200
TZNAME:CEST
DTSTART:20240331T010000
END:DAYLIGHT
BEGIN:STANDARD
TZOFFSETFROM:+0200
TZOFFSETTO:+0100
TZNAME:CET
DTSTART:20241027T010000
END:STANDARD
BEGIN:DAYLIGHT
TZOFFSETFROM:+0100
TZOFFSETTO:+0200
TZNAME:CEST
DTSTART:20250330T010000
END:DAYLIGHT
BEGIN:STANDARD
TZOFFSETFROM:+0200
TZOFFSETTO:+0100
TZNAME:CET
DTSTART:20251026T010000
END:STANDARD
BEGIN:DAYLIGHT
TZOFFSETFROM:+0100
TZOFFSETTO:+0200
TZNAME:CEST
DTSTART:20260329T010000
END:DAYLIGHT
BEGIN:STANDARD
TZOFFSETFROM:+0200
TZOFFSETTO:+0100
TZNAME:CET
DTSTART:20261025T010000
END:STANDARD
END:VTIMEZONE
BEGIN:VEVENT
DTSTART;TZID=Europe/Rome:20250424T090000
DTEND;TZID=Europe/Rome:20250424T133000
DTSTAMP:20260422T205236
CREATED:20250405T062711Z
LAST-MODIFIED:20250728T062736Z
UID:11856-1745485200-1745501400@federbioservizi.it
SUMMARY:Seminario PNABio | GESTIONE DELLA CHIOMA DELL’OLIVO IN AGRICOLTURA BIOLOGICA
DESCRIPTION:Giovedì 24 aprile 2025 dalle ore 9.00 si terrà presso Azienda Agricola La TEVEROLA\, Sicignano degli Alburni (SA) il seminario del progetto PNABio dal titolo \nGESTIONE DELLA CHIOMA DELL’OLIVO IN AGRICOLTURA BIOLOGICA \nIl seminario ha l’obiettivo di promuovere tecniche di gestione della chioma che possano aiutare l’agricoltore nella coltivazione dell’olivo secondo il metodo biologico.\nNe parliamo con esperti\, aziende e stakeholder del territorio. \nModera – Dott. Agr. Ilaria Di Muro\, Ecofarm srls\nRELAZIONI\nPrincipi di olivicoltura biologica e fisiologia dell’olivo\nDott. Agr. Ilaria Di Muro\nTecniche di potatura e strumenti\, applicazione in campo\,\nefficacia in agricoltura biologica\nDott. Agr. Marco Colasanto \nL’evento si concluderà con un light lunch\, offerto a tutti i partecipanti.\nPer partecipare all’evento\nè necessaria la registrazione al seguente form\nhttps://forms.gle/v9gAMkr3QQQuTmJs6 \nSCARICA IL PROGRAMA COMPLETO \nIl seminario è organizzato da FederBio in collaborazione con FederBio Servizi ed è parte del progetto \nPNABio – Piattaforma nazionale di attività e servizi per il biologico italiano in movimento. 
URL:https://federbioservizi.it/evento/seminario-pnabio-gestione-della-chioma-dellolivo-in-agricoltura-biologica/
ATTACH;FMTTYPE=image/jpeg:https://federbioservizi.it/wp-content/uploads/2025/07/olives-3728376_1280.jpg
END:VEVENT
END:VCALENDAR