BEGIN:VCALENDAR
VERSION:2.0
PRODID:-//FederBio Servizi - ECPv6.15.17.1//NONSGML v1.0//EN
CALSCALE:GREGORIAN
METHOD:PUBLISH
X-WR-CALNAME:FederBio Servizi
X-ORIGINAL-URL:https://federbioservizi.it
X-WR-CALDESC:Eventi per FederBio Servizi
REFRESH-INTERVAL;VALUE=DURATION:PT1H
X-Robots-Tag:noindex
X-PUBLISHED-TTL:PT1H
BEGIN:VTIMEZONE
TZID:Europe/Rome
BEGIN:DAYLIGHT
TZOFFSETFROM:+0100
TZOFFSETTO:+0200
TZNAME:CEST
DTSTART:20240331T010000
END:DAYLIGHT
BEGIN:STANDARD
TZOFFSETFROM:+0200
TZOFFSETTO:+0100
TZNAME:CET
DTSTART:20241027T010000
END:STANDARD
BEGIN:DAYLIGHT
TZOFFSETFROM:+0100
TZOFFSETTO:+0200
TZNAME:CEST
DTSTART:20250330T010000
END:DAYLIGHT
BEGIN:STANDARD
TZOFFSETFROM:+0200
TZOFFSETTO:+0100
TZNAME:CET
DTSTART:20251026T010000
END:STANDARD
BEGIN:DAYLIGHT
TZOFFSETFROM:+0100
TZOFFSETTO:+0200
TZNAME:CEST
DTSTART:20260329T010000
END:DAYLIGHT
BEGIN:STANDARD
TZOFFSETFROM:+0200
TZOFFSETTO:+0100
TZNAME:CET
DTSTART:20261025T010000
END:STANDARD
END:VTIMEZONE
BEGIN:VEVENT
DTSTART;TZID=Europe/Rome:20250321T183000
DTEND;TZID=Europe/Rome:20250321T203000
DTSTAMP:20260423T000018
CREATED:20250318T114326Z
LAST-MODIFIED:20250318T114326Z
UID:6848-1742581800-1742589000@federbioservizi.it
SUMMARY:Seminario PNABio | Bio come Biostimolanti. Le opportunità dei Biostimolanti nella produzione biologica
DESCRIPTION:In questa serata dedicata ai BIOSTIMOLANTI ammessi in agricoltura biologica potrai approfondire le tue conoscenze su questi importanti MEZZI TECNICI. \nNe parleremo venerdì 21 marzo 2025 dalle ore 18.30 alle ore 20.30\npresso Sala dei Volti Piazza Vittorio Veneto\, 44\, 37042 Caldiero VR. \nModera – Enrico Maria Casarotti\, Presidente Associazione AVeProBi \nPROGRAMMA \nLe piante hanno bisogno di biostimolanti? – Professor Mario Malagoli\, Università di Padova  \nEffetto priming con biostimolanti sulla risposta agli stress – Damiano Grezzan \, Agriges  \nAzione del distillato di legno sulla fisiologia delle piante – Orfeo Draghi\, Biodea  \nBiostimolanti a base di peptidi 100% vegetali: scelta naturale e massima efficacia – Cristian Argenta\, Hello Nature  \nStrategia biostimolante e nutrizionale su arboree e vite – Edoardo Modenese \, UPL \nL’evento si concluderà con un aperitivo! \nPer partecipare all’evento è necessaria la registrazione al seguente form  \nhttps://forms.gle/6UtWcA7hn65ic51B6✍️ \nIl seminario è organizzato da FederBio in collaborazione con FederBio Servizi ed è parte del progetto \nPNABio – Piattaforma nazionale di attività e servizi per il biologico italiano in movimento.  \nscarica il programma completo dell’iniziativa
URL:https://federbioservizi.it/evento/bio-come-biostimolanti-le-opportunita-dei-biostimolanti-nella-produzione-biologica/
ATTACH;FMTTYPE=image/jpeg:https://federbioservizi.it/wp-content/uploads/2025/03/apple-2720105_1280.jpg
END:VEVENT
END:VCALENDAR