BEGIN:VCALENDAR
VERSION:2.0
PRODID:-//FederBio Servizi - ECPv6.15.17.1//NONSGML v1.0//EN
CALSCALE:GREGORIAN
METHOD:PUBLISH
X-ORIGINAL-URL:https://federbioservizi.it
X-WR-CALDESC:Eventi per FederBio Servizi
REFRESH-INTERVAL;VALUE=DURATION:PT1H
X-Robots-Tag:noindex
X-PUBLISHED-TTL:PT1H
BEGIN:VTIMEZONE
TZID:Europe/Rome
BEGIN:DAYLIGHT
TZOFFSETFROM:+0100
TZOFFSETTO:+0200
TZNAME:CEST
DTSTART:20240331T010000
END:DAYLIGHT
BEGIN:STANDARD
TZOFFSETFROM:+0200
TZOFFSETTO:+0100
TZNAME:CET
DTSTART:20241027T010000
END:STANDARD
BEGIN:DAYLIGHT
TZOFFSETFROM:+0100
TZOFFSETTO:+0200
TZNAME:CEST
DTSTART:20250330T010000
END:DAYLIGHT
BEGIN:STANDARD
TZOFFSETFROM:+0200
TZOFFSETTO:+0100
TZNAME:CET
DTSTART:20251026T010000
END:STANDARD
BEGIN:DAYLIGHT
TZOFFSETFROM:+0100
TZOFFSETTO:+0200
TZNAME:CEST
DTSTART:20260329T010000
END:DAYLIGHT
BEGIN:STANDARD
TZOFFSETFROM:+0200
TZOFFSETTO:+0100
TZNAME:CET
DTSTART:20261025T010000
END:STANDARD
END:VTIMEZONE
BEGIN:VEVENT
DTSTART;TZID=Europe/Rome:20250325T090000
DTEND;TZID=Europe/Rome:20250325T133000
DTSTAMP:20260423T001413
CREATED:20250319T071253Z
LAST-MODIFIED:20250319T071253Z
UID:6873-1742893200-1742909400@federbioservizi.it
SUMMARY:Seminario PNABio | Microrganismi in campo. Teoria e pratica per l'utilizzo in agroecologia
DESCRIPTION:Martedì 25 marzo 2025 dalle 9.00 si terrà presso la Fattoria Majnoni Guicciardini a Barberino Tavarnelle (FI) il seminario del progetto PNABio dal titolo \nMICRORGANISMI IN CAMPO. TEORIA E PRATICA PER L’UTILIZZO IN AGROECOLOGIA.  \nInterverranno al seminario  \nMassimo Zaccardelli dirigente del CREA che parlerà dei microrganismi utili in agricoltura\,  Michele Lorenzetti viticoltore biodinamico che spiegherà nei dettagli l’approccio scientifico al Preparato 500. Seguirà un’altra testimonianza di un’agricoltore\, Sergio Pagani\, che racconterà del suo approccio con le micorrize e i cereali. Chiuderanno il seminario due agronomi\, Gherardo Biancofiore e Cesare Majnoni che porteranno il loro esempio pratico di come allestire fermentatori per biostimolanti. \nIl seminario è organizzato da FederBio in collaborazione con FederBio Servizi ed è parte del progetto \nPNABio – Piattaforma nazionale di attività e servizi per il biologico italiano in movimento. 
URL:https://federbioservizi.it/evento/seminario-pnabio-microrganismi-in-campo-teoria-e-pratica-per-lutilizzo-in-agroecologia/
ATTACH;FMTTYPE=image/jpeg:https://federbioservizi.it/wp-content/uploads/2025/03/FLYER-FEDER-BIO-copy-scaled-1.jpg
END:VEVENT
END:VCALENDAR